View In:
ArcGIS JavaScript
ArcGIS Online Map Viewer
ArcGIS Earth
ArcMap
View Footprint In:
ArcGIS Online Map Viewer
Service Description: MapGeo/PreCivilWarChurches_Map
Name: MapGeo/PreCivilWarChurches_Map
Description:
Single Fused Map Cache: false
Extent:
XMin: 1364070.8320711928
YMin: 633923.8841805469
XMax: 1508387.2538187576
YMax: 852995.0590469873
Spatial Reference: 102719
(2264)
LatestVCSWkid(0)
Initial Extent:
XMin: 1364070.8320711928
YMin: 633923.8841805469
XMax: 1508387.2538187576
YMax: 852995.0590469873
Spatial Reference: 102719
(2264)
LatestVCSWkid(0)
Full Extent:
XMin: 1364070.8320711928
YMin: 633923.8841805469
XMax: 1508387.2538187576
YMax: 852995.0590469873
Spatial Reference: 102719
(2264)
LatestVCSWkid(0)
Pixel Size X: 98.10769663328675
Pixel Size Y: 100.26140726152882
Band Count: 1
Pixel Type: U8
RasterFunction Infos: {"rasterFunctionInfos": [{
"name": "None",
"description": "",
"help": ""
}]}
Mensuration Capabilities: Basic
Has Histograms: true
Has Colormap: false
Has Multi Dimensions : false
Rendering Rule:
Min Scale: 1000
Max Scale: 875784980
Copyright Text:
Service Data Type: esriImageServiceDataTypeGeneric
Min Values: 0
Max Values: 255
Mean Values: 228.3291999247
Standard Deviation Values: 67.23489033577
Object ID Field:
Fields:
None
Default Mosaic Method: Center
Allowed Mosaic Methods:
SortField:
SortValue: null
Mosaic Operator: First
Default Compression Quality: 75
Default Resampling Method: Bilinear
Max Record Count: null
Max Image Height: 4100
Max Image Width: 15000
Max Download Image Count: null
Max Mosaic Image Count: null
Allow Raster Function: true
Allow Copy: true
Allow Analysis: true
Allow Compute TiePoints: false
Supports Statistics: false
Supports Advanced Queries: false
Use StandardizedQueries: true
Raster Type Infos:
Name: Raster Dataset
Description: Supports all ArcGIS Raster Datasets
Help:
Has Raster Attribute Table: false
Edit Fields Info: null
Ownership Based AccessControl For Rasters: null
Child Resources:
Info
Histograms
Statistics
Key Properties
Legend
Raster Function Infos
Supported Operations:
Export Image
Identify
Measure
Compute Histograms
Compute Statistics Histograms
Get Samples
Compute Class Statistics
Query Boundary
Compute Pixel Location
Compute Angles
Validate
Project