{
 "currentVersion": 10.91,
 "serviceDescription": "MapGeo/PreCivilWarChurches_Map",
 "name": "MapGeo/PreCivilWarChurches_Map",
 "description": "",
 "extent": {
  "xmin": 1364070.8320711928,
  "ymin": 633923.8841805469,
  "xmax": 1508387.2538187576,
  "ymax": 852995.0590469873,
  "spatialReference": {
   "wkid": 102719,
   "latestWkid": 2264
  }
 },
 "initialExtent": {
  "xmin": 1364070.8320711928,
  "ymin": 633923.8841805469,
  "xmax": 1508387.2538187576,
  "ymax": 852995.0590469873,
  "spatialReference": {
   "wkid": 102719,
   "latestWkid": 2264
  }
 },
 "fullExtent": {
  "xmin": 1364070.8320711928,
  "ymin": 633923.8841805469,
  "xmax": 1508387.2538187576,
  "ymax": 852995.0590469873,
  "spatialReference": {
   "wkid": 102719,
   "latestWkid": 2264
  }
 },
 "hasMultidimensions": false,
 "pixelSizeX": 98.10769663328675,
 "pixelSizeY": 100.26140726152882,
 "datasetFormat": "JFIF",
 "uncompressedSize": 3214135,
 "blockWidth": 1471,
 "blockHeight": 1,
 "compressionType": "JPEG",
 "bandNames": [
  "Band_1"
 ],
 "allowCopy": true,
 "allowAnalysis": true,
 "bandCount": 1,
 "pixelType": "U8",
 "minPixelSize": 0,
 "maxPixelSize": 0,
 "copyrightText": "",
 "serviceDataType": "esriImageServiceDataTypeGeneric",
 "serviceSourceType": "esriImageServiceSourceTypeDataset",
 "minValues": [
  0
 ],
 "maxValues": [
  255
 ],
 "meanValues": [
  228.3291999247
 ],
 "stdvValues": [
  67.23489033577
 ],
 "objectIdField": "",
 "fields": [],
 "capabilities": "Image,Metadata,Mensuration",
 "defaultMosaicMethod": "Center",
 "allowedMosaicMethods": "",
 "sortField": "",
 "sortValue": null,
 "sortAscending": true,
 "mosaicOperator": "First",
 "defaultCompressionQuality": 75,
 "defaultResamplingMethod": "Bilinear",
 "maxImageHeight": 4100,
 "maxImageWidth": 15000,
 "allowRasterFunction": true,
 "rasterFunctionInfos": [
  {
   "name": "None",
   "description": "",
   "help": ""
  }
 ],
 "rasterTypeInfos": [
  {
   "name": "Raster Dataset",
   "description": "Supports all ArcGIS Raster Datasets",
   "help": ""
  }
 ],
 "mensurationCapabilities": "Basic",
 "hasHistograms": true,
 "hasColormap": false,
 "hasRasterAttributeTable": false,
 "minScale": 1000,
 "maxScale": 875784980,
 "exportTilesAllowed": false,
 "supportsStatistics": false,
 "supportsAdvancedQueries": false,
 "editFieldsInfo": null,
 "ownershipBasedAccessControlForRasters": null,
 "allowComputeTiePoints": false,
 "useStandardizedQueries": true,
 "advancedQueryCapabilities": {
  "useStandardizedQueries": true,
  "supportsStatistics": false,
  "supportsOrderBy": false,
  "supportsDistinct": false,
  "supportsPagination": false
 },
 "spatialReference": {
  "wkid": 102719,
  "latestWkid": 2264
 }
}
