View In:
ArcGIS JavaScript
ArcGIS Online Map Viewer
ArcGIS Earth
ArcMap
View Footprint In:
ArcGIS Online Map Viewer
Service Description: MapGeo/USGS_Yadkinville_1893
Name: MapGeo/USGS_Yadkinville_1893
Description:
Single Fused Map Cache: true
Tile Info:
- Height: 256
- Width: 256
- DPI: 96
-
Levels of Detail: 5
- Format: MIXED
- Compression Quality: 75.0
- LERC Error: NaN
- Origin: X: -2.00379E7
Y: 2.47274E7
- Spatial Reference: 0
(0)
LatestVCSWkid(0)
Storage Info:
- Storage Format: esriMapCacheStorageModeCompactV2
- Packet Size: 128
Extent:
XMin: -26152.32003711187
YMin: 3981597.8906101505
XMax: 26108.179962888124
YMax: 4044124.223943484
Spatial Reference: 0
(0)
LatestVCSWkid(0)
Initial Extent:
XMin: -26152.32003711187
YMin: 3981597.8906101505
XMax: 26108.179962888124
YMax: 4044124.223943484
Spatial Reference: 0
(0)
LatestVCSWkid(0)
Full Extent:
XMin: -26152.32003711187
YMin: 3981597.8906101505
XMax: 26108.179962888124
YMax: 4044124.223943484
Spatial Reference: 0
(0)
LatestVCSWkid(0)
Pixel Size X: 10.583333333333332
Pixel Size Y: 10.583333333333359
Band Count: 3
Pixel Type: U8
RasterFunction Infos: {"rasterFunctionInfos": [{
"name": "None",
"description": "",
"help": ""
}]}
Mensuration Capabilities: Basic
Has Histograms: true
Has Colormap: false
Has Multi Dimensions : false
Rendering Rule:
Min Scale: 1000
Max Scale: 875784980
Copyright Text:
Service Data Type: esriImageServiceDataTypeRGB
Min Values: 0, 0, 0
Max Values: 255, 255, 255
Mean Values: 222.9164108541, 213.26524023144, 170.08076156531
Standard Deviation Values: 44.999354188913, 46.30628614197, 42.493022431051
Object ID Field:
Fields:
None
Default Mosaic Method: Center
Allowed Mosaic Methods:
SortField:
SortValue: null
Mosaic Operator: First
Default Compression Quality: 75
Default Resampling Method: Bilinear
Max Record Count: null
Max Image Height: 4100
Max Image Width: 15000
Max Download Image Count: null
Max Mosaic Image Count: null
Allow Raster Function: true
Allow Copy: true
Allow Analysis: true
Allow Compute TiePoints: false
Supports Statistics: false
Supports Advanced Queries: false
Use StandardizedQueries: true
Raster Type Infos:
Name: Raster Dataset
Description: Supports all ArcGIS Raster Datasets
Help:
Has Raster Attribute Table: false
Edit Fields Info: null
Ownership Based AccessControl For Rasters: null
Child Resources:
Info
Histograms
Statistics
Key Properties
Legend
Raster Function Infos
Supported Operations:
Export Image
Identify
Measure
Compute Histograms
Compute Statistics Histograms
Get Samples
Compute Class Statistics
Query Boundary
Compute Pixel Location
Compute Angles
Validate
Project