{
 "currentVersion": 10.91,
 "serviceDescription": "MapGeo/SchoolDistricts_1857_Map",
 "name": "MapGeo/SchoolDistricts_1857_Map",
 "description": "",
 "extent": {
  "xmin": 1340363.1680075834,
  "ymin": 630756.4629546795,
  "xmax": 1537404.0764245994,
  "ymax": 858275.9165167689,
  "spatialReference": {
   "wkid": 102719,
   "latestWkid": 2264
  }
 },
 "initialExtent": {
  "xmin": 1340363.1680075834,
  "ymin": 630756.4629546795,
  "xmax": 1537404.0764245994,
  "ymax": 858275.9165167689,
  "spatialReference": {
   "wkid": 102719,
   "latestWkid": 2264
  }
 },
 "fullExtent": {
  "xmin": 1340363.1680075834,
  "ymin": 630756.4629546795,
  "xmax": 1537404.0764245994,
  "ymax": 858275.9165167689,
  "spatialReference": {
   "wkid": 102719,
   "latestWkid": 2264
  }
 },
 "hasMultidimensions": false,
 "pixelSizeX": 45.738372427348196,
 "pixelSizeY": 43.787423703250454,
 "datasetFormat": "JFIF",
 "uncompressedSize": 67153104,
 "blockWidth": 4308,
 "blockHeight": 1,
 "compressionType": "JPEG",
 "bandNames": [
  "Band_1",
  "Band_2",
  "Band_3"
 ],
 "allowCopy": true,
 "allowAnalysis": true,
 "bandCount": 3,
 "pixelType": "U8",
 "minPixelSize": 760230.0173611111,
 "maxPixelSize": 0.8680555555555556,
 "copyrightText": "",
 "serviceDataType": "esriImageServiceDataTypeRGB",
 "serviceSourceType": "esriImageServiceSourceTypeDataset",
 "minValues": [
  0,
  0,
  0
 ],
 "maxValues": [
  255,
  244,
  248
 ],
 "meanValues": [
  191.70698815357,
  180.36930508825,
  157.88407329614
 ],
 "stdvValues": [
  41.743961457116,
  41.111293541741,
  40.113567708496
 ],
 "objectIdField": "",
 "fields": [],
 "capabilities": "Image,Metadata,Mensuration",
 "defaultMosaicMethod": "Center",
 "allowedMosaicMethods": "",
 "sortField": "",
 "sortValue": null,
 "sortAscending": true,
 "mosaicOperator": "First",
 "defaultCompressionQuality": 75,
 "defaultResamplingMethod": "Bilinear",
 "maxImageHeight": 4100,
 "maxImageWidth": 15000,
 "singleFusedMapCache": true,
 "tileInfo": {
  "rows": 256,
  "cols": 256,
  "dpi": 96,
  "format": "MIXED",
  "compressionQuality": 75,
  "origin": {
   "x": -121841900,
   "y": 154024800
  },
  "spatialReference": {
   "wkid": 102719,
   "latestWkid": 2264
  },
  "lods": [
   {
    "level": 0,
    "resolution": 760230.0173611111,
    "scale": 875784980
   },
   {
    "level": 1,
    "resolution": 0.8680555555555555,
    "scale": 1000
   },
   {
    "level": 2,
    "resolution": 0.43402777777777773,
    "scale": 500
   },
   {
    "level": 3,
    "resolution": 0.21701388888888887,
    "scale": 250
   },
   {
    "level": 4,
    "resolution": 0.10850694444444443,
    "scale": 125
   }
  ]
 },
 "storageInfo": {
  "storageFormat": "esriMapCacheStorageModeCompactV2",
  "packetSize": 128
 },
 "cacheType": "Map",
 "allowRasterFunction": true,
 "rasterFunctionInfos": [
  {
   "name": "None",
   "description": "",
   "help": ""
  }
 ],
 "rasterTypeInfos": [
  {
   "name": "Raster Dataset",
   "description": "Supports all ArcGIS Raster Datasets",
   "help": ""
  }
 ],
 "mensurationCapabilities": "Basic",
 "hasHistograms": true,
 "hasColormap": false,
 "hasRasterAttributeTable": false,
 "minScale": 1000,
 "maxScale": 875784980,
 "exportTilesAllowed": false,
 "supportsStatistics": false,
 "supportsAdvancedQueries": false,
 "editFieldsInfo": null,
 "ownershipBasedAccessControlForRasters": null,
 "allowComputeTiePoints": false,
 "useStandardizedQueries": true,
 "advancedQueryCapabilities": {
  "useStandardizedQueries": true,
  "supportsStatistics": false,
  "supportsOrderBy": false,
  "supportsDistinct": false,
  "supportsPagination": false
 },
 "spatialReference": {
  "wkid": 102719,
  "latestWkid": 2264
 }
}
